BEGIN:VCALENDAR
VERSION:2.0
PRODID:-//АВГУСТ - ECPv6.10.1.1//NONSGML v1.0//EN
CALSCALE:GREGORIAN
METHOD:PUBLISH
X-ORIGINAL-URL:https://august93.ru
X-WR-CALDESC:Мероприятия для АВГУСТ
REFRESH-INTERVAL;VALUE=DURATION:PT1H
X-Robots-Tag:noindex
X-PUBLISHED-TTL:PT1H
BEGIN:VTIMEZONE
TZID:Europe/Moscow
BEGIN:STANDARD
TZOFFSETFROM:+0300
TZOFFSETTO:+0300
TZNAME:MSK
DTSTART:20240101T000000
END:STANDARD
END:VTIMEZONE
BEGIN:VEVENT
DTSTART;VALUE=DATE:20240726
DTEND;VALUE=DATE:20240727
DTSTAMP:20260423T011948
CREATED:20240521T124048Z
LAST-MODIFIED:20240521T124048Z
UID:21824-1721952000-1722038399@august93.ru
SUMMARY:Сурганова и Оркестр на корабле "Париход" (Москва)
DESCRIPTION:летник на Москве-реке. \nМосква\, Ленинградское шоссе\, 51\, Северный речной вокзал \n\n 
URL:https://august93.ru/event/parihod
END:VEVENT
END:VCALENDAR