BEGIN:VCALENDAR
VERSION:2.0
PRODID:-//АВГУСТ - ECPv6.10.1.1//NONSGML v1.0//EN
CALSCALE:GREGORIAN
METHOD:PUBLISH
X-WR-CALNAME:АВГУСТ
X-ORIGINAL-URL:https://august93.ru
X-WR-CALDESC:Мероприятия для АВГУСТ
REFRESH-INTERVAL;VALUE=DURATION:PT1H
X-Robots-Tag:noindex
X-PUBLISHED-TTL:PT1H
BEGIN:VTIMEZONE
TZID:Europe/Moscow
BEGIN:STANDARD
TZOFFSETFROM:+0300
TZOFFSETTO:+0300
TZNAME:MSK
DTSTART:20240101T000000
END:STANDARD
END:VTIMEZONE
BEGIN:VEVENT
DTSTART;VALUE=DATE:20240927
DTEND;VALUE=DATE:20240928
DTSTAMP:20260422T220620
CREATED:20240926T204417Z
LAST-MODIFIED:20240927T064606Z
UID:22118-1727395200-1727481599@august93.ru
SUMMARY:Сингл Ночных Снайперов "Не смотри на меня"
DESCRIPTION:ССЫЛКА на прослушивание сингла на электронных площадках
URL:https://august93.ru/event/nesmotri
END:VEVENT
BEGIN:VEVENT
DTSTART;VALUE=DATE:20240927
DTEND;VALUE=DATE:20240928
DTSTAMP:20260422T220620
CREATED:20240926T204544Z
LAST-MODIFIED:20240927T064133Z
UID:22120-1727395200-1727481599@august93.ru
SUMMARY:Сингл Светланы Сургановой и группы Mivari "Вода"
DESCRIPTION:ССЫЛКА на прослушивание сингла на электронных площадках.
URL:https://august93.ru/event/voda
END:VEVENT
END:VCALENDAR