BEGIN:VCALENDAR
VERSION:2.0
PRODID:-//АВГУСТ - ECPv6.10.1.1//NONSGML v1.0//EN
CALSCALE:GREGORIAN
METHOD:PUBLISH
X-ORIGINAL-URL:https://august93.ru
X-WR-CALDESC:Мероприятия для АВГУСТ
REFRESH-INTERVAL;VALUE=DURATION:PT1H
X-Robots-Tag:noindex
X-PUBLISHED-TTL:PT1H
BEGIN:VTIMEZONE
TZID:Europe/Moscow
BEGIN:STANDARD
TZOFFSETFROM:+0300
TZOFFSETTO:+0300
TZNAME:MSK
DTSTART:20240101T000000
END:STANDARD
END:VTIMEZONE
BEGIN:VEVENT
DTSTART;VALUE=DATE:20241109
DTEND;VALUE=DATE:20241110
DTSTAMP:20260422T173418
CREATED:20241019T084544Z
LAST-MODIFIED:20241108T193431Z
UID:22185-1731110400-1731196799@august93.ru
SUMMARY:Ночные Снайперы в Рязани (перенос)
DESCRIPTION:Площадка — ДС «Олимпийский» — 20 сентября объявила\, что концерт не состоится «по техническим причинам».\nКонцерт перенесен на пока не указанную дату. \n\n 
URL:https://august93.ru/event/ryazan24
END:VEVENT
END:VCALENDAR