BEGIN:VCALENDAR
VERSION:2.0
PRODID:-//АВГУСТ - ECPv6.10.1.1//NONSGML v1.0//EN
CALSCALE:GREGORIAN
METHOD:PUBLISH
X-WR-CALNAME:АВГУСТ
X-ORIGINAL-URL:https://august93.ru
X-WR-CALDESC:Мероприятия для АВГУСТ
REFRESH-INTERVAL;VALUE=DURATION:PT1H
X-Robots-Tag:noindex
X-PUBLISHED-TTL:PT1H
BEGIN:VTIMEZONE
TZID:Europe/Moscow
BEGIN:STANDARD
TZOFFSETFROM:+0300
TZOFFSETTO:+0300
TZNAME:MSK
DTSTART:20240101T000000
END:STANDARD
END:VTIMEZONE
BEGIN:VEVENT
DTSTART;VALUE=DATE:20241119
DTEND;VALUE=DATE:20241120
DTSTAMP:20260422T173143
CREATED:20241019T084821Z
LAST-MODIFIED:20241019T084845Z
UID:22190-1731974400-1732060799@august93.ru
SUMMARY:Ночные Снайперы в клубе "1930 Moscow"
DESCRIPTION:
URL:https://august93.ru/event/1930-moscow-2024
END:VEVENT
BEGIN:VEVENT
DTSTART;VALUE=DATE:20241119
DTEND;VALUE=DATE:20241120
DTSTAMP:20260422T173143
CREATED:20241019T110505Z
LAST-MODIFIED:20241124T183419Z
UID:22229-1731974400-1732060799@august93.ru
SUMMARY:Сурганова и Оркестр в г. Сосновый Бор
DESCRIPTION:фестиваль Школы Росатома «U235. Новые песни». \n+ акустический концерт \n\n 
URL:https://august93.ru/event/volgodon-2
END:VEVENT
END:VCALENDAR