BEGIN:VCALENDAR
VERSION:2.0
PRODID:-//АВГУСТ - ECPv6.10.1.1//NONSGML v1.0//EN
CALSCALE:GREGORIAN
METHOD:PUBLISH
X-ORIGINAL-URL:https://august93.ru
X-WR-CALDESC:Мероприятия для АВГУСТ
REFRESH-INTERVAL;VALUE=DURATION:PT1H
X-Robots-Tag:noindex
X-PUBLISHED-TTL:PT1H
BEGIN:VTIMEZONE
TZID:Europe/Moscow
BEGIN:STANDARD
TZOFFSETFROM:+0300
TZOFFSETTO:+0300
TZNAME:MSK
DTSTART:20240101T000000
END:STANDARD
END:VTIMEZONE
BEGIN:VEVENT
DTSTART;VALUE=DATE:20241124
DTEND;VALUE=DATE:20241125
DTSTAMP:20260422T173409
CREATED:20240621T233445Z
LAST-MODIFIED:20241019T110044Z
UID:21861-1732406400-1732492799@august93.ru
SUMMARY:Сурганова и Оркестр в Сочи\, Зимний театр
DESCRIPTION:
URL:https://august93.ru/event/so4i24
END:VEVENT
END:VCALENDAR