BEGIN:VCALENDAR
VERSION:2.0
PRODID:-//АВГУСТ - ECPv6.10.1.1//NONSGML v1.0//EN
CALSCALE:GREGORIAN
METHOD:PUBLISH
X-ORIGINAL-URL:https://august93.ru
X-WR-CALDESC:Мероприятия для АВГУСТ
REFRESH-INTERVAL;VALUE=DURATION:PT1H
X-Robots-Tag:noindex
X-PUBLISHED-TTL:PT1H
BEGIN:VTIMEZONE
TZID:Europe/Moscow
BEGIN:STANDARD
TZOFFSETFROM:+0300
TZOFFSETTO:+0300
TZNAME:MSK
DTSTART:20240101T000000
END:STANDARD
END:VTIMEZONE
BEGIN:VEVENT
DTSTART;VALUE=DATE:20241126
DTEND;VALUE=DATE:20241127
DTSTAMP:20260422T173420
CREATED:20240621T233549Z
LAST-MODIFIED:20241019T110119Z
UID:21863-1732579200-1732665599@august93.ru
SUMMARY:Сурганова и Оркестр в Краснодаре\, ДК ЖД
DESCRIPTION:
URL:https://august93.ru/event/krasnodar24
END:VEVENT
BEGIN:VEVENT
DTSTART;VALUE=DATE:20241126
DTEND;VALUE=DATE:20241127
DTSTAMP:20260422T173420
CREATED:20241202T055056Z
LAST-MODIFIED:20241202T055056Z
UID:22309-1732579200-1732665599@august93.ru
SUMMARY:Диана Арбенина на премьере фильма "Первый номер"
DESCRIPTION:Москва\, кинотеатр «Художественный»\, премьера сериала «Первый номер».\nСреди участников мероприятия — семья Михалковых\, писатель Цыпкин\, ряд известных актеров и представителей шоу-бизнеса. \n\nССЫЛКИ \nБольшой репортаж с мероприятия \nДиана на «красной дорожке» мероприятия
URL:https://august93.ru/event/perviy-nomer
END:VEVENT
END:VCALENDAR