BEGIN:VCALENDAR
VERSION:2.0
PRODID:-//АВГУСТ - ECPv6.10.1.1//NONSGML v1.0//EN
CALSCALE:GREGORIAN
METHOD:PUBLISH
X-WR-CALNAME:АВГУСТ
X-ORIGINAL-URL:https://august93.ru
X-WR-CALDESC:Мероприятия для АВГУСТ
REFRESH-INTERVAL;VALUE=DURATION:PT1H
X-Robots-Tag:noindex
X-PUBLISHED-TTL:PT1H
BEGIN:VTIMEZONE
TZID:Europe/Moscow
BEGIN:STANDARD
TZOFFSETFROM:+0300
TZOFFSETTO:+0300
TZNAME:MSK
DTSTART:20240101T000000
END:STANDARD
END:VTIMEZONE
BEGIN:VEVENT
DTSTART;VALUE=DATE:20241127
DTEND;VALUE=DATE:20241128
DTSTAMP:20260422T160536
CREATED:20240621T233642Z
LAST-MODIFIED:20241019T110158Z
UID:21865-1732665600-1732751999@august93.ru
SUMMARY:Сурганова и Оркестр в Ростове-на Дону\, Филармония
DESCRIPTION:
URL:https://august93.ru/event/rostov24
END:VEVENT
BEGIN:VEVENT
DTSTART;VALUE=DATE:20241127
DTEND;VALUE=DATE:20241128
DTSTAMP:20260422T160536
CREATED:20241019T084939Z
LAST-MODIFIED:20241202T053929Z
UID:22193-1732665600-1732751999@august93.ru
SUMMARY:Ночные Снайперы в клубе А2 (Петербург)
DESCRIPTION:… \n\nССЫЛКИ \nполная видеозапись концерта (вертикальное) \nПлейлист видеозаписей с концерта на ютубе
URL:https://august93.ru/event/a2-2024
END:VEVENT
END:VCALENDAR