BEGIN:VCALENDAR
VERSION:2.0
PRODID:-//АВГУСТ - ECPv6.10.1.1//NONSGML v1.0//EN
CALSCALE:GREGORIAN
METHOD:PUBLISH
X-WR-CALNAME:АВГУСТ
X-ORIGINAL-URL:https://august93.ru
X-WR-CALDESC:Мероприятия для АВГУСТ
REFRESH-INTERVAL;VALUE=DURATION:PT1H
X-Robots-Tag:noindex
X-PUBLISHED-TTL:PT1H
BEGIN:VTIMEZONE
TZID:Europe/Moscow
BEGIN:STANDARD
TZOFFSETFROM:+0300
TZOFFSETTO:+0300
TZNAME:MSK
DTSTART:20240101T000000
END:STANDARD
END:VTIMEZONE
BEGIN:VEVENT
DTSTART;VALUE=DATE:20241130
DTEND;VALUE=DATE:20241201
DTSTAMP:20260422T160512
CREATED:20241109T094056Z
LAST-MODIFIED:20250106T142230Z
UID:22265-1732924800-1733011199@august93.ru
SUMMARY:Ноябрь 2024: события и публикации
DESCRIPTION:1 ноября \n  \n\n2 ноября \n  \n\n3 ноября \nДиана Арбенина сообщила\, работает над новым альбомом уже 7-й день (то есть\, предположительно\, работа стартовала 28 октября). \n\n4 ноября \n  \n\n5 ноября \nПредставлен тизер клипа Ночных Снайперов «Не смотри на меня» \n\n6 ноября \n  \n\n7 ноября \n  \n\n8 ноября \n  \n\n9 ноября \nКонцерт Ночных Снайперов в Рязани не состоится \n*** \nПремьера песни «Орион»\, записанной с участием Светланы Сургановой\, на «Радио КП». \n\n10 ноября \nКонцерт Ночных Снайперов в Липецке \n*** \nНовым соло-гитаристом Ночных Снайперов стал Андрей Звонков (экс-«Би2»). Первый концерт в составе группы — 10 ноября\, Липецк. \n\n11 ноября \nПремьера клипа на песню Ночных Снайперов «Не смотри на меня» \n*** \nКонцерт Сургановой и Оркестра в Казани \n\n12 ноября \n  \n\n13 ноября \nПрямой эфир в инстаграме Дианы Арбениной \n*** \nКонцерт Сургановой и Оркестра в Уфе не состоится \n\n14 ноября \nДень рождения Светланы Сургановой \n\n15 ноября \nКонцерт Сургановой и Оркестра в Екатеринбурге \n\n16 ноября \n  \n\n17 ноября \nКонцерт Сургановой и Оркестра в Москве\, КЗ «Москва» \n\n18 ноября \n  \n\n19 ноября \nКонцерт Ночных Снайперов в Москве\, клуб «1930» \n*** \nСветлана Сурганова в городе Сосновый Бор. \n\n20 ноября \n  \n\n21 ноября \n  \n\n22 ноября \n  \n\n23 ноября \nКонцерт Сургановой и Оркестра в Пятигорске \n*** \nКонцерт Ночных Снайперов в Омске отменен ((( \n\n24 ноября \nКонцерт Сургановой и Оркестра в Сочи \n\n25 ноября \n  \n\n26 ноября \nКонцерт Сургановой и Оркестра в Краснодаре \n*** \nДиана Арбенина посетила премьеру фильма «Первый номер» \n\n27 ноября \nКонцерт Сургановой и Оркестра в Ростове-на-Дону \n*** \nКонцерт Ночных Снайперов в Петербурге\, клуб А2 \n\n28 ноября \nЦеремония вручения премии «Диалоги в кино» \n  \n\n29 ноября \nРелиз альбома «Трибьют Арбенина» \n\n30 ноября \n  \n\n 
URL:https://august93.ru/event/11-2024
END:VEVENT
END:VCALENDAR