BEGIN:VCALENDAR
VERSION:2.0
PRODID:-//АВГУСТ - ECPv6.10.1.1//NONSGML v1.0//EN
CALSCALE:GREGORIAN
METHOD:PUBLISH
X-WR-CALNAME:АВГУСТ
X-ORIGINAL-URL:https://august93.ru
X-WR-CALDESC:Мероприятия для АВГУСТ
REFRESH-INTERVAL;VALUE=DURATION:PT1H
X-Robots-Tag:noindex
X-PUBLISHED-TTL:PT1H
BEGIN:VTIMEZONE
TZID:Europe/Moscow
BEGIN:STANDARD
TZOFFSETFROM:+0300
TZOFFSETTO:+0300
TZNAME:MSK
DTSTART:20240101T000000
END:STANDARD
END:VTIMEZONE
BEGIN:VEVENT
DTSTART;VALUE=DATE:20241205
DTEND;VALUE=DATE:20241206
DTSTAMP:20260422T160538
CREATED:20241019T110915Z
LAST-MODIFIED:20241212T031854Z
UID:22232-1733356800-1733443199@august93.ru
SUMMARY:Сурганова и Оркестр в БКЗ "Октябрьский" (Петербург)
DESCRIPTION:ССЫЛКИ \nСборник видео на ютубе \nФото с саундчека от Натальи Калиниченко \nКонцертные фото от Натальи Калиниченко \nФото с саундчека от Кати Маловой \n\nВПЕЧАТЛЕНИЯ \nЛариса Заименко \nПолучила от Фанни предложение  разместить  мой отчёт о концерте СиО для «большей сохранности»(!!!!) на сайте «Апреля»  Я аж смутилась. Ну\,  представила себя  летописцем\,  вытащила  воображаемые репьи  из воображаемой бороды и почесав настоящей рукой  в настоящем затылке сижу\, пишу. Объективности не ждите. \n5 декабря 2042 года\, БКЗ. Начался концерт в 20:02. Большего  уважения к нам зрителям\, и представить невозможно. Уже только  за это я готова целовать песок\, по которому ходили все\, кто к этому причастен. \nВступление:  голос Светы из кулис\, который  нарастал и нарастал\, бережная негромкая  поддержка инструментами.  Вот уже и знакомый силуэт на сцене: «Шила осень». Всё! Мы  в её  полной власти. Драматургия концерта выстроена безупречно\, каждая  исполняемая  песня на своём   месте.  Было  грустно и  смешно\, было отчаяние и  надежда\, красота и предательство\, была боль потерь и любовь\, была нежность и страсть  и был мирумир. Два отделения\,  двадцать восемь песен и три часа счастья\, состоящего из:\nОтличного сценического звука и  света\nЯркого и медного звука трубы Романа и  его чертовского  соло в «Перроне»\nИгры Валеры на  гитарах\, закреплённых на высоких стойках. Подошёл\, поиграл\, отошёл\,  а гитара  на месте  Смотреть на это было прикольно. А  играл он  как божечка.\nЕго же грациозные пантомимы на «Фурии» и «Катапульте» \nПриколы Никиты и Романа \, то  шутливо фехтоваввших между собой\, на чем-то\, вроде спичек\, то уступавших друг другу место у своих инструментов\nБас гитары Дениса\, задающего ритм и гармонию оркестру\nПриглашённых гостей:  парней из группы с непроизносимый для меня названием\, спевших  а  капелла  несколько своих песен  и «апрельскую»  со Светой в  таааких  костюмах: «Ах! мне бы такой!»\nПоздравления  Светы  от фангруппы с прошедшим днём рождения\, читавших в очередь стишок\, как в  детском садике. ( в смысле\, так же мило) \nПодробной инструкции от них  же  с указанием где чем махать во время  флэшмоба\nСветящейся палочки\, которую можно было забрать домой (вот сижу\, свечу) \nОчереди из желающих подарить цветы\, которых было очень\,  очень  много. Охапки\, охапки   цветов.\nОбращения к нам  Светы : «родной Питер и родные»\, так и хотелось ответить:- да\,  да\, это мы!\nИ конечно же Светы. Хрупкой  Светы\, взявшей  каждого из нас за руку\, и поведшей за собой. В свой мир\, в  свою глубину\, в свою тоску по любви «не тобой болеет сердце»\, «мой путь»\, «корабли»\, «да будет свет» «предчувствие с»\, это то что мне выворачивает душу наизнанку. Света поёт их не мне и не нам \, а тому кому невозможно соврать. И мы лишь счастливые соучастники этого чуда.  Чуда длиною в тридцать лет.  Спасибо тебе  Света за это. \n*** \nВсю полноту ответственности за этот пост несёт фан группа СиО\, которая не вложила в мой файлик (ряд 9 место 42) «листок со словами поддержки в самом начале концерта»\, поэтому  пишу их сама  после.
URL:https://august93.ru/event/bkz24-2
END:VEVENT
END:VCALENDAR