BEGIN:VCALENDAR
VERSION:2.0
PRODID:-//АВГУСТ - ECPv6.10.1.1//NONSGML v1.0//EN
CALSCALE:GREGORIAN
METHOD:PUBLISH
X-WR-CALNAME:АВГУСТ
X-ORIGINAL-URL:https://august93.ru
X-WR-CALDESC:Мероприятия для АВГУСТ
REFRESH-INTERVAL;VALUE=DURATION:PT1H
X-Robots-Tag:noindex
X-PUBLISHED-TTL:PT1H
BEGIN:VTIMEZONE
TZID:Europe/Moscow
BEGIN:STANDARD
TZOFFSETFROM:+0300
TZOFFSETTO:+0300
TZNAME:MSK
DTSTART:20240101T000000
END:STANDARD
END:VTIMEZONE
BEGIN:VEVENT
DTSTART;VALUE=DATE:20241231
DTEND;VALUE=DATE:20250101
DTSTAMP:20260422T160541
CREATED:20250103T135027Z
LAST-MODIFIED:20250819T225817Z
UID:22418-1735603200-1735689599@august93.ru
SUMMARY:Декабрь 2024: события и мероприятия
DESCRIPTION:1 декабря \nКонцерт Ночных Снайперов в Екатеринбурге \n\n2 декабря \nКонцерт Ночных Снайперов в Челябинске \n*** \nАрт-пространство «ПушкинРядом» отмечает свое 4-летие. \n\n3 декабря \n  \n\n4 декабря \n  \n\n5 декабря \nКонцерт Сургановой и Оркестра в БКЗ» Октябрьский» (СПб) \n\n6 декабря \nПесня Ночных Снайперов «Не смотри на меня» на 3 месте «Чартовой Дюжины» \n\n7 декабря \nДиана Арбенина посетила Гран-При автогонки «Формула 1» в Абу-Даби и побывала на концерте Эминема. \n*** \nСветлана Сурганова посетила выставку живописца XIX века Каспара Давида Фридриха в Эрмитаже. \n\n8 декабря \n  \n\n9 декабря \nКонцерт Сургановой и Оркестра в Сургуте \n\n10 декабря \n  \n\n11 декабря \n  \n\n12 декабря \n  \n\n13 декабря \nСингл Ночных Снайперов «Обстоятельства» \n*** \nПесня Ночных Снайперов «Не смотри на меня» на 4 месте «Чартовой Дюжины» \n*** \nСветлана Сурганова в Десногорске\, на фестивале «U-235. Новые песни»  \n\n14 декабря \n  \n\n15 декабря \nКонцерт Ночных Снайперов в Уфе. Концертная премьера песни «Обстоятельства». \n\n16 декабря \nСветлана Сурганова в городе Удомля Тверской области\, на фестивале «U-235. Новые песни». \n\n17 декабря \nДиана Арбенина встретилась с участниками проекта «Трибьют: Арбенина» в Снайперкой студии. \n\n18 декабря \nLove Радио\nДиана Арбенина в вечернем шоу «Жизнь прекрасна» \n\n19 декабря \n  \n\n20 декабря \nПесня Ночных Снайперов «Не смотри на меня» на 3 месте «Чартовой Дюжины» \n*** \nРадио «Комсомольская правда»\nМини-интервью Дианы Арбениной про песню «Дом стеной». \n\n21 декабря \nНовогодний концерт «Сургановой и Оркестра» в ПушкинРядом».\nСветлана Сурганова исполнила премьеру песни «Переходная звезда». \n\n22 декабря \n  \n\n23 декабря \nАвторадио\nЖивой концерт Ночных Снайперов совместно с некоторыми участниками трибьюта. \n\n24 декабря \nСветлана Сурганова посетила балет «Щелкунчик» в Эрмитажном театре (СПб) \n\n25 декабря \n  \n\n26 декабря \nКонцерт Сургановой и Оркестра в клубе «Magnus Locus» (Москва) \n\n27 декабря \nНаше Радио\nИтоговый выпуск «Чартовой Дюжины» за 2024 года: Песня Ночных Снайперов «Не смотри на меня» на 10 месте. \n*** \nДиана Арбенина посетила новогоднее шоу Надежды и Анны Михалковых «Дядя Степа» в МТС Live Холл. \n\n28 декабря \n  \n\n29 декабря \nВ эфире проекта «Подкаст.Лаб» живое выступление Ночных Снайперов. Телепремьера песни «Обстоятельства». \n\n30 декабря \n  \n\n31 декабря \nЗакрытый концерт «Ночных Снайперов» в Лимассоле (Кипр) \n*** \nПортал НСН\nИнтервью Светланы Сургановой «Яркие впечатления и утрата» \n\n 
URL:https://august93.ru/event/%d0%b4%d0%b5%d0%ba%d0%b0%d0%b1%d1%80%d1%8c-2024-%d1%81%d0%be%d0%b1%d1%8b%d1%82%d0%b8%d1%8f-%d0%b8-%d0%bc%d0%b5%d1%80%d0%be%d0%bf%d1%80%d0%b8%d1%8f%d1%82%d0%b8%d1%8f
END:VEVENT
END:VCALENDAR