BEGIN:VCALENDAR
VERSION:2.0
PRODID:-//АВГУСТ - ECPv6.10.1.1//NONSGML v1.0//EN
CALSCALE:GREGORIAN
METHOD:PUBLISH
X-ORIGINAL-URL:https://august93.ru
X-WR-CALDESC:Мероприятия для АВГУСТ
REFRESH-INTERVAL;VALUE=DURATION:PT1H
X-Robots-Tag:noindex
X-PUBLISHED-TTL:PT1H
BEGIN:VTIMEZONE
TZID:Europe/Moscow
BEGIN:STANDARD
TZOFFSETFROM:+0300
TZOFFSETTO:+0300
TZNAME:MSK
DTSTART:20250101T000000
END:STANDARD
END:VTIMEZONE
BEGIN:VEVENT
DTSTART;VALUE=DATE:20251021
DTEND;VALUE=DATE:20251022
DTSTAMP:20260423T062751
CREATED:20241019T104636Z
LAST-MODIFIED:20241108T193934Z
UID:22211-1761004800-1761091199@august93.ru
SUMMARY:Сурганова и Оркестр в Саратове\, ДК "Россия"
DESCRIPTION:Перенос: 04.11.2024 -> 21.10.2025
URL:https://august93.ru/event/saratov24
END:VEVENT
END:VCALENDAR